BEGIN:VCALENDAR
VERSION:2.0
PRODID:-//NORDSTART Akademie - ECPv6.15.20//NONSGML v1.0//EN
CALSCALE:GREGORIAN
METHOD:PUBLISH
X-WR-CALNAME:NORDSTART Akademie
X-ORIGINAL-URL:https://nordstart-akademie.de
X-WR-CALDESC:Veranstaltungen für NORDSTART Akademie
REFRESH-INTERVAL;VALUE=DURATION:PT1H
X-Robots-Tag:noindex
X-PUBLISHED-TTL:PT1H
BEGIN:VTIMEZONE
TZID:UTC
BEGIN:STANDARD
TZOFFSETFROM:+0000
TZOFFSETTO:+0000
TZNAME:UTC
DTSTART:20230101T000000
END:STANDARD
END:VTIMEZONE
BEGIN:VEVENT
DTSTART;TZID=UTC:20241127T110000
DTEND;TZID=UTC:20241127T160000
DTSTAMP:20260426T012730
CREATED:20241029T112152Z
LAST-MODIFIED:20241029T112152Z
UID:16289-1732705200-1732723200@nordstart-akademie.de
SUMMARY:Adventsbasteln
DESCRIPTION:✨ Adventsbasteln – Kreative Vorfreude auf die Weihnachtszeit ✨ \nLust auf ein vorweihnachtliches DIY-Erlebnis? Gemeinsam möchten wir mit euch wundervolle Adventskränze gestalten und die Adventszeit einläuten. 🌲✨ Bringt gerne alten Weihnachtsschmuck oder Deko mit\, die ein neues Plätzchen auf eurem Kranz finden könnten. \n📅 Datum: 27.11.2024\n🕓 Uhrzeit: 11 – 16 Uhr\n📍 Ort: NordStart-Akademie\, An der Hürde 5a\, 17034 Neubrandenburg \nDa die Plätze begrenzt sind\, bitten wir um Anmeldung bis zum 21.11.2024. \nMeldet euch schnell an und sichert euch euren Platz für einen kreativen Tag voller Weihnachtsstimmung! 🎄✨ \n📞 Kontakt für Anmeldung:\nMonique Wahl\n0395 3588-215 \nWir freuen uns auf euch! 🎉
URL:https://nordstart-akademie.de/event/adventsbasteln/
LOCATION:M-V
ATTACH;FMTTYPE=image/png:https://nordstart-akademie.de/wp-content/uploads/2024/10/Adventsbasteln-1-1.png
END:VEVENT
END:VCALENDAR