BEGIN:VCALENDAR
VERSION:2.0
PRODID:-//NORDSTART Akademie - ECPv6.15.20//NONSGML v1.0//EN
CALSCALE:GREGORIAN
METHOD:PUBLISH
X-ORIGINAL-URL:https://nordstart-akademie.de
X-WR-CALDESC:Veranstaltungen für NORDSTART Akademie
REFRESH-INTERVAL;VALUE=DURATION:PT1H
X-Robots-Tag:noindex
X-PUBLISHED-TTL:PT1H
BEGIN:VTIMEZONE
TZID:UTC
BEGIN:STANDARD
TZOFFSETFROM:+0000
TZOFFSETTO:+0000
TZNAME:UTC
DTSTART:20240101T000000
END:STANDARD
END:VTIMEZONE
BEGIN:VEVENT
DTSTART;TZID=UTC:20250310T133921
DTEND;TZID=UTC:20250310T133921
DTSTAMP:20260425T212253
CREATED:20250225T084322Z
LAST-MODIFIED:20250310T133921Z
UID:16474-1741613961-1741613961@nordstart-akademie.de
SUMMARY:Der Frühling ist da – Die Gartensaison ist eröffnet!
DESCRIPTION:Die ersten Sonnenstrahlen kitzeln die Natur wach\, und mit ihnen startet unsere Gartensaison! Unser Kiezgarten lädt dich ein – ob du Lust auf gemeinsames Gärtnern hast oder einfach die grüne Oase mitten in der Stadt genießen möchtest. \n🌱 Was dich erwartet:\nTauche ein in die entspannte Atmosphäre\, schnapp dir eine Gartenhacke oder lehn dich zurück und genieße die frische Luft. Lerne neue Menschen kennen\, pflanze frisches Gemüse und lass uns den Frühling gemeinsam willkommen heißen! \n🔥 Besonderes Highlight: Wir werfen den Grill an und genießen ein gemütliches Beisammensein. \n📅 Wann & Wo?\n🗓 10.03.2025\n⏰ Ab 12 Uhr\n📍 Mehrgenerationengarten \nDie Gartensaison ist eröffnet – sei dabei und erlebe mit uns die Freude am gemeinsamen Gärtnern! 🌻 \nWir freuen uns auf dich! Bitte melde dich an: \n📞 Monique Wahl – Tel. 0395 3588 215\n📧 E-Mail: m.wahl@nordstart-nb.de
URL:https://nordstart-akademie.de/event/der-fruehling-ist-da-die-gartensaison-ist-eroeffnet/
LOCATION:Mehrgenerationengarten\, Kuhdamm\, Neubrandenburg\, M-V\, 17034\, Germany
ATTACH;FMTTYPE=image/png:https://nordstart-akademie.de/wp-content/uploads/2025/02/Garten-Auftakt.png
END:VEVENT
END:VCALENDAR