BEGIN:VCALENDAR
VERSION:2.0
PRODID:-//NORDSTART Akademie - ECPv6.15.20//NONSGML v1.0//EN
CALSCALE:GREGORIAN
METHOD:PUBLISH
X-ORIGINAL-URL:https://nordstart-akademie.de
X-WR-CALDESC:Veranstaltungen für NORDSTART Akademie
REFRESH-INTERVAL;VALUE=DURATION:PT1H
X-Robots-Tag:noindex
X-PUBLISHED-TTL:PT1H
BEGIN:VTIMEZONE
TZID:UTC
BEGIN:STANDARD
TZOFFSETFROM:+0000
TZOFFSETTO:+0000
TZNAME:UTC
DTSTART:20240101T000000
END:STANDARD
END:VTIMEZONE
BEGIN:VEVENT
DTSTART;TZID=UTC:20250305T100000
DTEND;TZID=UTC:20250305T150000
DTSTAMP:20260425T195928
CREATED:20250204T111123Z
LAST-MODIFIED:20250204T141423Z
UID:16460-1741168800-1741186800@nordstart-akademie.de
SUMMARY:Trödeltreff - Kram trifft Charme
DESCRIPTION:✨ Kram trifft Charme 📦 \nIhr habt Dinge\, die ihr nicht mehr braucht\, die aber viel zu schade zum Wegwerfen sind? Oder liebt ihr es\, nach kleinen Schätzen zu stöbern? Dann seid ihr bei unserem Trödeltreff genau richtig! 💙 \n🌟 Bringt mit\, was euch nicht mehr glücklich macht – und findet neue Lieblingsstücke! Vielleicht entdeckt jemand genau das\, was ihm noch gefehlt hat. \n💬 Kommt vorbei\, tauscht euch aus\, stöbert und genießt eine entspannte Zeit mit uns! Neben tollen Funden gibt’s natürlich auch gute Gespräche und eine gemütliche Atmosphäre. ☕ \n📅 Wann? 05.03.2025 | 10:00 – 15:00 Uhr\n📍 Wo? NordStart Akademie\, An der Hürde 5a\n📩 Infos & Kontakt: Monique Wahl\n📞 0395 3588 215 | ✉️ m.wahl@nordstart-nb.de \nWir freuen uns auf euch und einen schönen Tag voller Charme & Trödel! 💙✨
URL:https://nordstart-akademie.de/event/troedeltreff-kram-trifft-charme/
LOCATION:NordStart-Akademie\, An der Hürde 5a\, Neubrandenburg\, M-V\, 17034\, Germany
ATTACH;FMTTYPE=image/png:https://nordstart-akademie.de/wp-content/uploads/2025/02/Troedeltreffhochformatig.png
END:VEVENT
BEGIN:VEVENT
DTSTART;TZID=UTC:20250310T133921
DTEND;TZID=UTC:20250310T133921
DTSTAMP:20260425T195928
CREATED:20250225T084322Z
LAST-MODIFIED:20250310T133921Z
UID:16474-1741613961-1741613961@nordstart-akademie.de
SUMMARY:Der Frühling ist da – Die Gartensaison ist eröffnet!
DESCRIPTION:Die ersten Sonnenstrahlen kitzeln die Natur wach\, und mit ihnen startet unsere Gartensaison! Unser Kiezgarten lädt dich ein – ob du Lust auf gemeinsames Gärtnern hast oder einfach die grüne Oase mitten in der Stadt genießen möchtest. \n🌱 Was dich erwartet:\nTauche ein in die entspannte Atmosphäre\, schnapp dir eine Gartenhacke oder lehn dich zurück und genieße die frische Luft. Lerne neue Menschen kennen\, pflanze frisches Gemüse und lass uns den Frühling gemeinsam willkommen heißen! \n🔥 Besonderes Highlight: Wir werfen den Grill an und genießen ein gemütliches Beisammensein. \n📅 Wann & Wo?\n🗓 10.03.2025\n⏰ Ab 12 Uhr\n📍 Mehrgenerationengarten \nDie Gartensaison ist eröffnet – sei dabei und erlebe mit uns die Freude am gemeinsamen Gärtnern! 🌻 \nWir freuen uns auf dich! Bitte melde dich an: \n📞 Monique Wahl – Tel. 0395 3588 215\n📧 E-Mail: m.wahl@nordstart-nb.de
URL:https://nordstart-akademie.de/event/der-fruehling-ist-da-die-gartensaison-ist-eroeffnet/
LOCATION:Mehrgenerationengarten\, Kuhdamm\, Neubrandenburg\, M-V\, 17034\, Germany
ATTACH;FMTTYPE=image/png:https://nordstart-akademie.de/wp-content/uploads/2025/02/Garten-Auftakt.png
END:VEVENT
BEGIN:VEVENT
DTSTART;TZID=UTC:20250324T090000
DTEND;TZID=UTC:20250627T120000
DTSTAMP:20260425T195928
CREATED:20250224T083331Z
LAST-MODIFIED:20250520T110002Z
UID:16466-1742806800-1751025600@nordstart-akademie.de
SUMMARY:Wir bilden Alltagshelden aus
DESCRIPTION:Deine Zeit als Alltagsheld:in beginnt JETZT! 🌟 \nViele Menschen leiden unter Stress\, Erschöpfung und Verspannungen. Um dem entgegenzuwirken\, kombinieren wir gezieltes Fitnesstraining mit effektiven Entspannungstechniken und bewusster Ernährungsberatung. \nUnsere Teilnehmerinnen erlernen einfache\, aber wirkungsvolle Übungen\, die sich problemlos in den Alltag integrieren lassen und die körperliche Fitness steigern. Ergänzend dazu erhalten sie wertvolle Tipps für eine gesunde und alltagstaugliche Ernährung\, die mehr Energie liefert und das allgemeine Wohlbefinden verbessert. Zur Unterstützung der Regeneration und zur Linderung von Verspannungen kommen zudem kinesiologisches Taping\, Faszientraining und wohltuende Massagen zum Einsatz. Abgerundet wird das Programm durch gezielte Methoden zur Stressbewältigung\, die helfen\, mehr Gelassenheit in den Alltag zu bringen. \nWas erwartet dich?\nZusammen mit unserem erfahrenen Personaltrainer Ron Starck von stRONg by RON bringen wir dich auf ein neues Level! 💥 \nRon begleitet dich persönlich\, motiviert dich und passt das Programm individuell auf deine Bedürfnisse an – egal\, wo du stehst. Du musst kein Profi sein\, um mitzumachen! \n📍 Wo?\nIn den einladenden Räumen der NordStart-Akademie\nAn der Hürde 1a/5a\, 17034 Neubrandenburg \n🕒 Wann?\n📅 Nächste Termine:\n📍 19.05. | 13.06. | 27.06. – jeweils von 9-12 Uhr \nJeder ab 18 Jahren\, der arbeitssuchend ist\, ist willkommen! \n📩 Kontakt:\nSandra Lembke\n📧 info@nordstart-nb.de\n📞 0395 3588 219 \n💡 Werde Teil unserer Held:innen-Community und starte mit uns in ein gesünderes\, glücklicheres Leben. Lass uns gemeinsam zeigen\, wie Alltagsheld:innen das Leben rocken! 🎉💪
URL:https://nordstart-akademie.de/event/wir-bilden-alltagshelden-aus-3/
LOCATION:NordStart-Akademie\, An der Hürde 5a\, Neubrandenburg\, M-V\, 17034\, Germany
ATTACH;FMTTYPE=image/png:https://nordstart-akademie.de/wp-content/uploads/2025/02/Alltagshelden-A4-21.png
END:VEVENT
END:VCALENDAR